BEGIN:VCALENDAR
VERSION:2.0
PRODID:-//holycrossomaha.org//NONSGML kigkonsult.se iCalcreator 2.30.10//
CALSCALE:GREGORIAN
METHOD:PUBLISH
UID:f77addcf-7d80-4652-b0de-b3416b45f93f
X-WR-CALDESC:
X-WR-RELCALID:1a53a3354af207dc574bca34ce41cd77
X-WR-TIMEZONE:America/Chicago
BEGIN:VTIMEZONE
TZID:America/Chicago
BEGIN:STANDARD
TZNAME:CST
DTSTART:20201101T020000
TZOFFSETFROM:-0500
TZOFFSETTO:-0600
RDATE:20211107T020000
END:STANDARD
BEGIN:DAYLIGHT
TZNAME:CDT
DTSTART:20210314T020000
TZOFFSETFROM:-0600
TZOFFSETTO:-0500
RDATE:20220313T020000
END:DAYLIGHT
END:VTIMEZONE
BEGIN:VEVENT
UID:e07e3e6c-2904-4f73-bfb9-7efb371bc5da
DTSTAMP:20260422T184746Z
DESCRIPTION:
DTSTART;TZID=America/Chicago:20210424T183000
DTEND;TZID=America/Chicago:20210424T203000
LOCATION:
SUMMARY:2021 Holy Cross Gala
END:VEVENT
END:VCALENDAR
