BEGIN:VCALENDAR
VERSION:2.0
PRODID:-//holycrossomaha.org//NONSGML kigkonsult.se iCalcreator 2.30.10//
CALSCALE:GREGORIAN
METHOD:PUBLISH
UID:ede19115-b2e2-495b-ba31-50298a9d2b9b
X-WR-CALDESC:Phone messages will be returned on Tuesday\, July 6th.
X-WR-RELCALID:c3224e8f0d3a9b01fda339a3a43228c6
X-WR-TIMEZONE:America/Chicago
BEGIN:VTIMEZONE
TZID:America/Chicago
BEGIN:STANDARD
TZNAME:CST
DTSTART:20201101T020000
TZOFFSETFROM:-0500
TZOFFSETTO:-0600
RDATE:20211107T020000
RDATE:20221106T020000
END:STANDARD
BEGIN:DAYLIGHT
TZNAME:CDT
DTSTART:20210314T020000
TZOFFSETFROM:-0600
TZOFFSETTO:-0500
RDATE:20220313T020000
END:DAYLIGHT
END:VTIMEZONE
BEGIN:VEVENT
UID:c00816e8-de50-4262-a7c5-4c9d1fda1fcc
DTSTAMP:20260422T143618Z
DESCRIPTION:Phone messages will be returned on Tuesday\, July 6th.
DTSTART;TZID=America/Chicago:20210705T000000
DTEND;TZID=America/Chicago:20210705T235900
LOCATION:
SUMMARY:Church Rectory is Closed in observance of Independence Day
END:VEVENT
END:VCALENDAR
