BEGIN:VCALENDAR
VERSION:2.0
PRODID:-//holycrossomaha.org//NONSGML kigkonsult.se iCalcreator 2.30.10//
CALSCALE:GREGORIAN
METHOD:PUBLISH
UID:6c96d9f5-c4fe-4bc2-8784-0af8c4aa395b
X-WR-CALDESC:Start your day with Jesus before celebrating with friends and 
 family.\nBe safe and God Bless!\nPlease note that we will not have a 5:30p
 m Mass this date.
X-WR-RELCALID:83b99d81ff0418116086bab27476bc1d
X-WR-TIMEZONE:America/Chicago
BEGIN:VTIMEZONE
TZID:America/Chicago
BEGIN:STANDARD
TZNAME:CST
DTSTART:20201101T020000
TZOFFSETFROM:-0500
TZOFFSETTO:-0600
RDATE:20211107T020000
RDATE:20221106T020000
END:STANDARD
BEGIN:DAYLIGHT
TZNAME:CDT
DTSTART:20210314T020000
TZOFFSETFROM:-0600
TZOFFSETTO:-0500
RDATE:20220313T020000
END:DAYLIGHT
END:VTIMEZONE
BEGIN:VEVENT
UID:34facb14-5257-4b00-a2ed-2c373d547cab
DTSTAMP:20260422T143455Z
DESCRIPTION:Start your day with Jesus before celebrating with friends and f
 amily.\nBe safe and God Bless!\nPlease note that we will not have a 5:30pm
  Mass this date.
DTSTART;TZID=America/Chicago:20210705T090000
DTEND;TZID=America/Chicago:20210705T100000
LOCATION:4810 Woolworth Ave\, Omaha\, NE 68106 US
SUMMARY:Fourth of July Mass
END:VEVENT
END:VCALENDAR
