BEGIN:VCALENDAR
VERSION:2.0
PRODID:-//holycrossomaha.org//NONSGML kigkonsult.se iCalcreator 2.30.10//
CALSCALE:GREGORIAN
METHOD:PUBLISH
UID:82896bc1-32d7-4f34-979d-7ad27765571a
X-WR-CALDESC:The Seminarians are back … 2 Days ONLY!\n \nHoly Cross is hono
 red to host a visit from the Seminarians from the Institute of Priestly Fo
 rmation on Thursday\, July 8th. \nThey will be assisting and singing at th
 e 5:30 PM Mass followed by a light supper in St. Edwards Hall to which all
  are  invited.  Please plan on attending and enjoying this opportunity to 
 visit with the Seminarians\, as well as hearing their vocation talks. Fami
 lies encouraged to attend\, all ages welcome!\n
X-WR-RELCALID:53cd576f7bff9eb196b7fb7a16a19778
X-WR-TIMEZONE:America/Chicago
BEGIN:VTIMEZONE
TZID:America/Chicago
BEGIN:STANDARD
TZNAME:CST
DTSTART:20201101T020000
TZOFFSETFROM:-0500
TZOFFSETTO:-0600
RDATE:20211107T020000
RDATE:20221106T020000
END:STANDARD
BEGIN:DAYLIGHT
TZNAME:CDT
DTSTART:20210314T020000
TZOFFSETFROM:-0600
TZOFFSETTO:-0500
RDATE:20220313T020000
END:DAYLIGHT
END:VTIMEZONE
BEGIN:VEVENT
UID:d9762080-66a8-486d-a7f9-a263d3f0b80d
DTSTAMP:20260422T142906Z
DESCRIPTION:The Seminarians are back … 2 Days ONLY!\n \nHoly Cross is honor
 ed to host a visit from the Seminarians from the Institute of Priestly For
 mation on Thursday\, July 8th. \nThey will be assisting and singing at the
  5:30 PM Mass followed by a light supper in St. Edwards Hall to which all 
 are  invited.  Please plan on attending and enjoying this opportunity to v
 isit with the Seminarians\, as well as hearing their vocation talks. Famil
 ies encouraged to attend\, all ages welcome!\n
DTSTART;TZID=America/Chicago:20210708T173000
DTEND;TZID=America/Chicago:20210708T200000
LOCATION:5:30pm Mass will be at Holy Cross Church 4810 Woolworth Ave and th
 e meal following will be in St Ed's Hall\, below the church.
SUMMARY:Seminarians from the Institute of Priestly Formation
END:VEVENT
END:VCALENDAR
