BEGIN:VCALENDAR
VERSION:2.0
PRODID:-//holycrossomaha.org//NONSGML kigkonsult.se iCalcreator 2.30.10//
CALSCALE:GREGORIAN
METHOD:PUBLISH
UID:63fec896-910e-4775-bf5c-dae13a03a794
X-WR-CALDESC:Knights of Columbus Pancake Breakfast Benefit for Mater Filius
  of Nebraska.\nFree Will Offering appreciated.
X-WR-RELCALID:4a4e5c310320ec5195c6241c36c3b984
X-WR-TIMEZONE:America/Chicago
BEGIN:VTIMEZONE
TZID:America/Chicago
BEGIN:STANDARD
TZNAME:CST
DTSTART:20201101T020000
TZOFFSETFROM:-0500
TZOFFSETTO:-0600
RDATE:20211107T020000
RDATE:20221106T020000
END:STANDARD
BEGIN:DAYLIGHT
TZNAME:CDT
DTSTART:20210314T020000
TZOFFSETFROM:-0600
TZOFFSETTO:-0500
RDATE:20220313T020000
END:DAYLIGHT
END:VTIMEZONE
BEGIN:VEVENT
UID:41275fa5-ffde-4552-95d7-f3297119f391
DTSTAMP:20260422T143607Z
DESCRIPTION:Knights of Columbus Pancake Breakfast Benefit for Mater Filius 
 of Nebraska.\nFree Will Offering appreciated.
DTSTART;TZID=America/Chicago:20210711T080000
DTEND;TZID=America/Chicago:20210711T123000
LOCATION:48th and Woolworth - Holy Cross School Cafeteria
SUMMARY:Knights of Columbus Pancake Breakfast
END:VEVENT
END:VCALENDAR
