BEGIN:VCALENDAR
VERSION:2.0
PRODID:-//holycrossomaha.org//NONSGML kigkonsult.se iCalcreator 2.30.10//
CALSCALE:GREGORIAN
METHOD:PUBLISH
UID:39d45959-f451-4e96-bc3f-95a4cc37ea45
X-WR-CALDESC:'The Hands of Jesus' 3 day Workshop July 13-15\, 10am-2pm each
  day in the Holy Cross School Cafeteria.\nLooking for God's Presence in Al
 l Things!\nPreschool thru 8th Grade.  \n\nActivities include:\nMaking /mol
 ding your handprints with plaster\nDesigning painting t-shirts with you ha
 ndprints\nWriting your own “good news” proclamation\nMusical prayers\nMini
  makeovers of body\, mind and spirit\nMany more activities!\nGuest speaker
 s include:\nCertified aerobics instructor\nBee Keeper\nMental Health Profe
 ssional \nOn Thursday Faith Festival with games and prizes\nCatch the Winn
 ing Spirit\, Fishers of Men\, \nTemptation Trap\, Living Waters\, and more
 !\n$10 fee includes lunch\, all materials and activities. \nIf you are Saf
 e Environment Certified and would like to volunteer at this event\, please
  contact Theresa McLaury.
X-WR-RELCALID:1dd7397615d4770abde3affffe5a2007
X-WR-TIMEZONE:America/Chicago
BEGIN:VTIMEZONE
TZID:America/Chicago
BEGIN:STANDARD
TZNAME:CST
DTSTART:20201101T020000
TZOFFSETFROM:-0500
TZOFFSETTO:-0600
RDATE:20211107T020000
RDATE:20221106T020000
END:STANDARD
BEGIN:DAYLIGHT
TZNAME:CDT
DTSTART:20210314T020000
TZOFFSETFROM:-0600
TZOFFSETTO:-0500
RDATE:20220313T020000
END:DAYLIGHT
END:VTIMEZONE
BEGIN:VEVENT
UID:11a871da-b7a8-4bb0-af96-f121aa556563
DTSTAMP:20260422T143444Z
DESCRIPTION:'The Hands of Jesus' 3 day Workshop July 13-15\, 10am-2pm each 
 day in the Holy Cross School Cafeteria.\nLooking for God's Presence in All
  Things!\nPreschool thru 8th Grade.  \n\nActivities include:\nMaking /mold
 ing your handprints with plaster\nDesigning painting t-shirts with you han
 dprints\nWriting your own “good news” proclamation\nMusical prayers\nMini 
 makeovers of body\, mind and spirit\nMany more activities!\nGuest speakers
  include:\nCertified aerobics instructor\nBee Keeper\nMental Health Profes
 sional \nOn Thursday Faith Festival with games and prizes\nCatch the Winni
 ng Spirit\, Fishers of Men\, \nTemptation Trap\, Living Waters\, and more!
 \n$10 fee includes lunch\, all materials and activities. \nIf you are Safe
  Environment Certified and would like to volunteer at this event\, please 
 contact Theresa McLaury.
DTSTART;TZID=America/Chicago:20210715T100000
DTEND;TZID=America/Chicago:20210715T140000
LOCATION:1502 South 48th St\, School Cafeteria\, Omaha\, NE 68106 US
SUMMARY:The Hands of Jesus - 3 Day Workshop
END:VEVENT
END:VCALENDAR
