BEGIN:VCALENDAR
VERSION:2.0
PRODID:-//holycrossomaha.org//NONSGML kigkonsult.se iCalcreator 2.30.10//
CALSCALE:GREGORIAN
METHOD:PUBLISH
UID:7ec4c9b8-24fc-4208-930b-2b02ecc2636f
X-WR-CALDESC:August 15th at 3pm enjoy a presentation by Shroud of Turin exp
 ert\, Jim Bertrand\, M. Ed.\, includes a full-size replica of the Shroud o
 f Turin.\n\nExhibit will be at Holy Cross Church's St Ed's Hall:\nMonday 9
 am-2pm and after 5:30pm mass\nTuesday 9am-2pm and after 5:30pm mass\nWedne
 sday 9am-2pm and after 5:30pm mass\nThursday 9am-2pm and after 5:30pm mass
 \nDisplays will be removed Friday at 10am (Incorrect info is on the flyer)
 .\nIf you need a special viewing please contact the rectory at 402-553-750
 0. We will do our best to accommodate you.\n\nYou're invited to an up clos
 e experience of the most studied artifact of all time - The Shroud of Turi
 n.  Witness this powerful display of the history\, science and mystery beh
 ind what many believe to be the authentic burial cloth of Jesus Christ.  T
 hen you can ask YOURSELF - Who is this Man of The Shroud?
X-WR-RELCALID:3dc88d0ff62aea6ebcc04e859dbbb512
X-WR-TIMEZONE:America/Chicago
BEGIN:VTIMEZONE
TZID:America/Chicago
BEGIN:STANDARD
TZNAME:CST
DTSTART:20201101T020000
TZOFFSETFROM:-0500
TZOFFSETTO:-0600
RDATE:20211107T020000
RDATE:20221106T020000
END:STANDARD
BEGIN:DAYLIGHT
TZNAME:CDT
DTSTART:20210314T020000
TZOFFSETFROM:-0600
TZOFFSETTO:-0500
RDATE:20220313T020000
END:DAYLIGHT
END:VTIMEZONE
BEGIN:VEVENT
UID:3e7c3880-b0df-4bde-8e99-cc56be0fb429
DTSTAMP:20260422T130326Z
DESCRIPTION:August 15th at 3pm enjoy a presentation by Shroud of Turin expe
 rt\, Jim Bertrand\, M. Ed.\, includes a full-size replica of the Shroud of
  Turin.\n\nExhibit will be at Holy Cross Church's St Ed's Hall:\nMonday 9a
 m-2pm and after 5:30pm mass\nTuesday 9am-2pm and after 5:30pm mass\nWednes
 day 9am-2pm and after 5:30pm mass\nThursday 9am-2pm and after 5:30pm mass
 \nDisplays will be removed Friday at 10am (Incorrect info is on the flyer)
 .\nIf you need a special viewing please contact the rectory at 402-553-750
 0. We will do our best to accommodate you.\n\nYou're invited to an up clos
 e experience of the most studied artifact of all time - The Shroud of Turi
 n.  Witness this powerful display of the history\, science and mystery beh
 ind what many believe to be the authentic burial cloth of Jesus Christ.  T
 hen you can ask YOURSELF - Who is this Man of The Shroud?
DTSTART;TZID=America/Chicago:20210817T090000
DTEND;TZID=America/Chicago:20210817T140000
LOCATION:4803 William St - St Ed's Hall
SUMMARY:The Man of the Shroud
END:VEVENT
END:VCALENDAR
