BEGIN:VCALENDAR
VERSION:2.0
PRODID:-//holycrossomaha.org//NONSGML kigkonsult.se iCalcreator 2.30.10//
CALSCALE:GREGORIAN
METHOD:PUBLISH
UID:fe6e2af4-2e42-4452-afcc-5f7f4c9b2e64
X-WR-CALDESC:The Holy Cross Booster Club sponsors boys and girls teams in s
 occer\, volleyball\, basketball\, softball\, baseball and track.\nApproxim
 ately 300 children participate every year in these activities. All proceed
 s raised from this event will go toward offsetting the\ncosts to support o
 ur youth sports programs. Any assistance\, whether participating as a golf
 er\, hole sponsor\, or raffle prize donor\, is\ngreatly appreciated. We ho
 pe to see you at the Field Club on August 23rd!\n\nSpace is limited to 24 
 foursomes so register early!
X-WR-RELCALID:7d1600007d25fe32bdd3e54087a2358f
X-WR-TIMEZONE:America/Chicago
BEGIN:VTIMEZONE
TZID:America/Chicago
BEGIN:STANDARD
TZNAME:CST
DTSTART:20201101T020000
TZOFFSETFROM:-0500
TZOFFSETTO:-0600
RDATE:20211107T020000
RDATE:20221106T020000
END:STANDARD
BEGIN:DAYLIGHT
TZNAME:CDT
DTSTART:20210314T020000
TZOFFSETFROM:-0600
TZOFFSETTO:-0500
RDATE:20220313T020000
END:DAYLIGHT
END:VTIMEZONE
BEGIN:VEVENT
UID:3910a458-8805-42e8-a52c-25ed6d06c001
DTSTAMP:20260422T130207Z
DESCRIPTION:The Holy Cross Booster Club sponsors boys and girls teams in so
 ccer\, volleyball\, basketball\, softball\, baseball and track.\nApproxima
 tely 300 children participate every year in these activities. All proceeds
  raised from this event will go toward offsetting the\ncosts to support ou
 r youth sports programs. Any assistance\, whether participating as a golfe
 r\, hole sponsor\, or raffle prize donor\, is\ngreatly appreciated. We hop
 e to see you at the Field Club on August 23rd!\n\nSpace is limited to 24 f
 oursomes so register early!
DTSTART;TZID=America/Chicago:20210823T110000
DTEND;TZID=America/Chicago:20210823T190000
LOCATION:Field Club of Omaha 37th and Woolworth Ave\, Omaha\, NE
SUMMARY:24th Annual Booster Club Golf Outing
END:VEVENT
END:VCALENDAR
