BEGIN:VCALENDAR
VERSION:2.0
PRODID:-//holycrossomaha.org//NONSGML kigkonsult.se iCalcreator 2.30.10//
CALSCALE:GREGORIAN
METHOD:PUBLISH
UID:fedf9f28-21d1-4688-9cf0-b06a5e500b95
X-WR-CALDESC:
X-WR-RELCALID:3079633143de8e9f9e4f12e0f1eeaa3f
X-WR-TIMEZONE:America/Chicago
BEGIN:VTIMEZONE
TZID:America/Chicago
BEGIN:STANDARD
TZNAME:CST
DTSTART:20201101T020000
TZOFFSETFROM:-0500
TZOFFSETTO:-0600
RDATE:20211107T020000
RDATE:20221106T020000
END:STANDARD
BEGIN:DAYLIGHT
TZNAME:CDT
DTSTART:20210314T020000
TZOFFSETFROM:-0600
TZOFFSETTO:-0500
RDATE:20220313T020000
RDATE:20230312T020000
END:DAYLIGHT
END:VTIMEZONE
BEGIN:VEVENT
UID:717de49a-60b0-451b-9b73-25bad1ae8612
DTSTAMP:20260422T113938Z
DESCRIPTION:
DTSTART;TZID=America/Chicago:20210926T000000
DTEND;TZID=America/Chicago:20210926T235900
LOCATION:4803 William Street\, St Ed's Hall\, Omaha\, NE 68106 US
SUMMARY:Priesthood Sunday
END:VEVENT
END:VCALENDAR
