BEGIN:VCALENDAR
VERSION:2.0
PRODID:-//holycrossomaha.org//NONSGML kigkonsult.se iCalcreator 2.30.10//
CALSCALE:GREGORIAN
METHOD:PUBLISH
UID:29c07618-c7e5-49e3-8ddd-22262b4c9225
X-WR-CALDESC:UPDATE!  Holy Cross students met their fundraising goal with $
 19\,700.07 raised!\nThank you to all who donated for your generosity and k
 indness!  We are truly blessed as a community!\n\nThe 2021 Walk-A-Thon wil
 l take place October 1st.\nOnline Donations can be made by clicking the li
 nk: https://holycrossomaha.weshareonline.org/5thAnnualWalkAThon\nYou can a
 lso mail or drop off a check to the school (402-551-3773) during business 
 hours (1502 S. 48th St.\, Omaha\, NE 68106).\n\nPlease consider making a d
 onation towards Holy Cross School! This is the only school-wide fundraiser
  & ALL of the funds stay right at Holy Cross School. This year funds will 
 be put towards new lockers\, the school wide One Book\, One School literac
 y program\, the development of an outdoor learning space\, & other activit
 ies such as Catholic Schools Week & Teacher Appreciation Week. PLEASE note
  in the comments which student or students that you would like your donati
 on to be credited to. Thank you for your support & continued prayers for t
 he teachers & students of Holy Cross Catholic School!
X-WR-RELCALID:a662a804ce180d14bfa5cc6c56db2499
X-WR-TIMEZONE:America/Chicago
BEGIN:VTIMEZONE
TZID:America/Chicago
BEGIN:STANDARD
TZNAME:CST
DTSTART:20201101T020000
TZOFFSETFROM:-0500
TZOFFSETTO:-0600
RDATE:20211107T020000
RDATE:20221106T020000
END:STANDARD
BEGIN:DAYLIGHT
TZNAME:CDT
DTSTART:20210314T020000
TZOFFSETFROM:-0600
TZOFFSETTO:-0500
RDATE:20220313T020000
RDATE:20230312T020000
END:DAYLIGHT
END:VTIMEZONE
BEGIN:VEVENT
UID:75575d8a-a830-4ca8-bb7b-83212f618f62
DTSTAMP:20260424T095324Z
DESCRIPTION:UPDATE!  Holy Cross students met their fundraising goal with $1
 9\,700.07 raised!\nThank you to all who donated for your generosity and ki
 ndness!  We are truly blessed as a community!\n\nThe 2021 Walk-A-Thon will
  take place October 1st.\nOnline Donations can be made by clicking the lin
 k: https://holycrossomaha.weshareonline.org/5thAnnualWalkAThon\nYou can al
 so mail or drop off a check to the school (402-551-3773) during business h
 ours (1502 S. 48th St.\, Omaha\, NE 68106).\n\nPlease consider making a do
 nation towards Holy Cross School! This is the only school-wide fundraiser 
 & ALL of the funds stay right at Holy Cross School. This year funds will b
 e put towards new lockers\, the school wide One Book\, One School literacy
  program\, the development of an outdoor learning space\, & other activiti
 es such as Catholic Schools Week & Teacher Appreciation Week. PLEASE note 
 in the comments which student or students that you would like your donatio
 n to be credited to. Thank you for your support & continued prayers for th
 e teachers & students of Holy Cross Catholic School!
DTSTART;TZID=America/Chicago:20211001T000000
DTEND;TZID=America/Chicago:20211001T235900
LOCATION:1502 South 48th Street\, Omaha\, NE 68106 US
SUMMARY:HC School Walk-A-Thon
END:VEVENT
END:VCALENDAR
