BEGIN:VCALENDAR
VERSION:2.0
PRODID:-//holycrossomaha.org//NONSGML kigkonsult.se iCalcreator 2.30.10//
CALSCALE:GREGORIAN
METHOD:PUBLISH
UID:ad97d009-48c0-4418-8c2f-e7cd38505aeb
X-WR-CALDESC:A peaceful presence of prayer and fasting\,\ntoward an end to 
 abortion.\nHoly Cross has adopted Friday\, October 29th\, 8AM-8PM for its 
 hour-by-hour vigil\noutside the Bellevue Health Center (1002 Mission Avenu
 e)\, Leroy Carhart's abortion clinic.\nPlease consider being there for an 
 hour\,\nand invite a fellow parishioner to participate\, as well!\nTogethe
 r we may do this for these 'least of our brothers'\nand end the taking of 
 these little ones' lives.\nContact Bob Henchal at henchal@runbox.com
X-WR-RELCALID:8e68a588f38cbf3fac4c758b84486d5b
X-WR-TIMEZONE:America/Chicago
BEGIN:VTIMEZONE
TZID:America/Chicago
BEGIN:STANDARD
TZNAME:CST
DTSTART:20201101T020000
TZOFFSETFROM:-0500
TZOFFSETTO:-0600
RDATE:20211107T020000
RDATE:20221106T020000
END:STANDARD
BEGIN:DAYLIGHT
TZNAME:CDT
DTSTART:20210314T020000
TZOFFSETFROM:-0600
TZOFFSETTO:-0500
RDATE:20220313T020000
RDATE:20230312T020000
END:DAYLIGHT
END:VTIMEZONE
BEGIN:VEVENT
UID:3e7e6a0d-102a-4150-8620-07bfdc0f77ee
DTSTAMP:20260422T103026Z
DESCRIPTION:A peaceful presence of prayer and fasting\,\ntoward an end to a
 bortion.\nHoly Cross has adopted Friday\, October 29th\, 8AM-8PM for its h
 our-by-hour vigil\noutside the Bellevue Health Center (1002 Mission Avenue
 )\, Leroy Carhart's abortion clinic.\nPlease consider being there for an h
 our\,\nand invite a fellow parishioner to participate\, as well!\nTogether
  we may do this for these 'least of our brothers'\nand end the taking of t
 hese little ones' lives.\nContact Bob Henchal at henchal@runbox.com
DTSTART;TZID=America/Chicago:20211029T080000
DTEND;TZID=America/Chicago:20211029T200000
LOCATION:1002 Mission Ave\, Bellevue\, NE 68005 US
SUMMARY:40 Days for Life
END:VEVENT
END:VCALENDAR
