BEGIN:VCALENDAR
VERSION:2.0
PRODID:-//holycrossomaha.org//NONSGML kigkonsult.se iCalcreator 2.30.10//
CALSCALE:GREGORIAN
METHOD:PUBLISH
UID:899d2637-cb40-4b7d-8ca5-ecc98cc0fb67
X-WR-CALDESC:Come Pray with Us in front of the Mary Shrine located on the E
 ast side of the church!\nWe will meet every Saturday morning at 9am in the
  month of October.\nOctober 30th will be led by the Holy Cross Knights of 
 Columbus.\nIn case of inclement weather we will pray inside.
X-WR-RELCALID:7489ee2266274459d38f4aa9650de104
X-WR-TIMEZONE:America/Chicago
BEGIN:VTIMEZONE
TZID:America/Chicago
BEGIN:STANDARD
TZNAME:CST
DTSTART:20201101T020000
TZOFFSETFROM:-0500
TZOFFSETTO:-0600
RDATE:20211107T020000
RDATE:20221106T020000
END:STANDARD
BEGIN:DAYLIGHT
TZNAME:CDT
DTSTART:20210314T020000
TZOFFSETFROM:-0600
TZOFFSETTO:-0500
RDATE:20220313T020000
RDATE:20230312T020000
END:DAYLIGHT
END:VTIMEZONE
BEGIN:VEVENT
UID:74d69bcd-9369-4c4c-aa7e-ef8cf83aed79
DTSTAMP:20260424T095031Z
DESCRIPTION:Come Pray with Us in front of the Mary Shrine located on the Ea
 st side of the church!\nWe will meet every Saturday morning at 9am in the 
 month of October.\nOctober 30th will be led by the Holy Cross Knights of C
 olumbus.\nIn case of inclement weather we will pray inside.
DTSTART;TZID=America/Chicago:20211030T090000
DTEND;TZID=America/Chicago:20211030T100000
LOCATION:East side of Holy Cross Church
SUMMARY:Month of The Rosary
END:VEVENT
END:VCALENDAR
