BEGIN:VCALENDAR
VERSION:2.0
PRODID:-//holycrossomaha.org//NONSGML kigkonsult.se iCalcreator 2.30.10//
CALSCALE:GREGORIAN
METHOD:PUBLISH
UID:49ef5c91-6bf3-4f26-b6f6-8d0c0d341e6c
X-WR-CALDESC:Join us for the Mass for Deceased Members of the Altar Society
 .  \nWe will meet in the Church at 11 AM for Mass\,\nfollowed by a luncheo
 n and meeting in St. Ed’s Hall.\nThe cost is $10. \nPersonal items for the
  Stephen Center will be collected.  \nReservations must be made by Friday\
 , October 29th to:\nBarb Wilson 402-553-4784 or Marlene Mahoney 402-551-92
 84\nMasks are acceptable. Unvaccinated\, please wear a mask. \n
X-WR-RELCALID:fd99b4482efc3bccb4fb9cb7b64d7ec7
X-WR-TIMEZONE:America/Chicago
BEGIN:VTIMEZONE
TZID:America/Chicago
BEGIN:STANDARD
TZNAME:CST
DTSTART:20211107T020000
TZOFFSETFROM:-0500
TZOFFSETTO:-0600
RDATE:20221106T020000
END:STANDARD
BEGIN:DAYLIGHT
TZNAME:CDT
DTSTART:20210314T020000
TZOFFSETFROM:-0600
TZOFFSETTO:-0500
RDATE:20220313T020000
RDATE:20230312T020000
END:DAYLIGHT
END:VTIMEZONE
BEGIN:VEVENT
UID:a768f546-3cd6-44a1-b31a-9b212a33bcb8
DTSTAMP:20260422T115836Z
DESCRIPTION:Join us for the Mass for Deceased Members of the Altar Society.
   \nWe will meet in the Church at 11 AM for Mass\,\nfollowed by a luncheon
  and meeting in St. Ed’s Hall.\nThe cost is $10. \nPersonal items for the 
 Stephen Center will be collected.  \nReservations must be made by Friday\,
  October 29th to:\nBarb Wilson 402-553-4784 or Marlene Mahoney 402-551-928
 4\nMasks are acceptable. Unvaccinated\, please wear a mask. \n
DTSTART;TZID=America/Chicago:20211103T110000
DTEND;TZID=America/Chicago:20211103T140000
LOCATION:Holy Cross Church and St Ed's Hall
SUMMARY:Altar Society Day Of Reflection and Mass
END:VEVENT
END:VCALENDAR
