BEGIN:VCALENDAR
VERSION:2.0
PRODID:-//holycrossomaha.org//NONSGML kigkonsult.se iCalcreator 2.30.10//
CALSCALE:GREGORIAN
METHOD:PUBLISH
UID:8b4f49a6-bf02-4a2a-9f36-fde9368c6ddf
X-WR-CALDESC:A Morning of Spiritual Reflection based on Our Lady of Guadalu
 pe\nNovember 13th  /  9:00 AM -Noon\nOpen to St. Vincent de Paul Members a
 nd Non-Members.  Holy Family Community Center located at 1705 Izard St.\nA
  Morning of Spiritual Reflection based on Our Lady of Guadalupe.  Scott Wa
 tts of Hope of the Poor\, works with the people who live in the city dump 
 in Mexico City which is very near the Basilica of Our Lady of Guadalupe. H
 e has become an expert on the spirituality\, miracles and mysteries of Our
  Lady of Guadalupe and will lead this morning of reflection.  A terrific o
 pportunity to learn more from a local resource.
X-WR-RELCALID:545af82f9b98b091de9c8e9c536729d7
X-WR-TIMEZONE:America/Chicago
BEGIN:VTIMEZONE
TZID:America/Chicago
BEGIN:STANDARD
TZNAME:CST
DTSTART:20211107T020000
TZOFFSETFROM:-0500
TZOFFSETTO:-0600
RDATE:20221106T020000
END:STANDARD
BEGIN:DAYLIGHT
TZNAME:CDT
DTSTART:20210314T020000
TZOFFSETFROM:-0600
TZOFFSETTO:-0500
RDATE:20220313T020000
RDATE:20230312T020000
END:DAYLIGHT
END:VTIMEZONE
BEGIN:VEVENT
UID:ebf2731e-74ef-4f57-a169-2e13494048e6
DTSTAMP:20260422T113737Z
DESCRIPTION:A Morning of Spiritual Reflection based on Our Lady of Guadalup
 e\nNovember 13th  /  9:00 AM -Noon\nOpen to St. Vincent de Paul Members an
 d Non-Members.  Holy Family Community Center located at 1705 Izard St.\nA 
 Morning of Spiritual Reflection based on Our Lady of Guadalupe.  Scott Wat
 ts of Hope of the Poor\, works with the people who live in the city dump i
 n Mexico City which is very near the Basilica of Our Lady of Guadalupe. He
  has become an expert on the spirituality\, miracles and mysteries of Our 
 Lady of Guadalupe and will lead this morning of reflection.  A terrific op
 portunity to learn more from a local resource.
DTSTART;TZID=America/Chicago:20211113T090000
DTEND;TZID=America/Chicago:20211113T130000
LOCATION:Holy Family Community Center 1705 Izard St. Omaha
SUMMARY:A Morning of Spiritual Reflection
END:VEVENT
END:VCALENDAR
