BEGIN:VCALENDAR
VERSION:2.0
PRODID:-//holycrossomaha.org//NONSGML kigkonsult.se iCalcreator 2.30.10//
CALSCALE:GREGORIAN
METHOD:PUBLISH
UID:fa89e523-bc24-4f12-bc8b-735278ba1455
X-WR-CALDESC:St. Vincent de Paul collecting Food Pantry donations\nNEXT WEE
 KEND\, NOV 13th —14th\nHoly Cross Parking Lot\nAll non-perishable items ar
 e appreciated\, but most needed are cereal\, peanut butter\, canned meat\,
  Hamburger Helper\, pasta and pasta sauce. Please bring your items before 
 Masses that weekend and drop them off at the truck.   Thank you!\n
X-WR-RELCALID:e6cc96be9a5f2a286dcaeb51781516dc
X-WR-TIMEZONE:America/Chicago
BEGIN:VTIMEZONE
TZID:America/Chicago
BEGIN:STANDARD
TZNAME:CST
DTSTART:20211107T020000
TZOFFSETFROM:-0500
TZOFFSETTO:-0600
RDATE:20221106T020000
END:STANDARD
BEGIN:DAYLIGHT
TZNAME:CDT
DTSTART:20210314T020000
TZOFFSETFROM:-0600
TZOFFSETTO:-0500
RDATE:20220313T020000
RDATE:20230312T020000
END:DAYLIGHT
END:VTIMEZONE
BEGIN:VEVENT
UID:451d7810-50d5-44d9-93a6-626393b53cce
DTSTAMP:20260420T082813Z
DESCRIPTION:St. Vincent de Paul collecting Food Pantry donations\nNEXT WEEK
 END\, NOV 13th —14th\nHoly Cross Parking Lot\nAll non-perishable items are
  appreciated\, but most needed are cereal\, peanut butter\, canned meat\, 
 Hamburger Helper\, pasta and pasta sauce. Please bring your items before M
 asses that weekend and drop them off at the truck.   Thank you!\n
DTSTART;TZID=America/Chicago:20211113T160000
DTEND;TZID=America/Chicago:20211114T120000
LOCATION:
SUMMARY:St Vincent DePaul Food Pantry Donations
END:VEVENT
END:VCALENDAR
