BEGIN:VCALENDAR
VERSION:2.0
PRODID:-//holycrossomaha.org//NONSGML kigkonsult.se iCalcreator 2.30.10//
CALSCALE:GREGORIAN
METHOD:PUBLISH
UID:ebcce96e-50ea-4f2d-b6ab-6313619b116f
X-WR-CALDESC:Ablaze\nJoin us for an evening of prayer and praise. Families 
 and people of all ages are welcome. During Ablaze\, we invite people to en
 ter into offering a sacrifice of praise through singing\, which leads us i
 nto a deeper love for Jesus. Find out more about Ablaze at AblazeWorship.o
 rg\nAttend in Person or livestream from the Ablaze website.
X-WR-RELCALID:7bd295d59d983642f1e8366149fb153e
X-WR-TIMEZONE:America/Chicago
BEGIN:VTIMEZONE
TZID:America/Chicago
BEGIN:STANDARD
TZNAME:CST
DTSTART:20211107T020000
TZOFFSETFROM:-0500
TZOFFSETTO:-0600
RDATE:20221106T020000
END:STANDARD
BEGIN:DAYLIGHT
TZNAME:CDT
DTSTART:20210314T020000
TZOFFSETFROM:-0600
TZOFFSETTO:-0500
RDATE:20220313T020000
RDATE:20230312T020000
END:DAYLIGHT
END:VTIMEZONE
BEGIN:VEVENT
UID:124b1799-daf0-49b4-af6f-b293f3b0e300
DTSTAMP:20260422T113920Z
DESCRIPTION:Ablaze\nJoin us for an evening of prayer and praise. Families a
 nd people of all ages are welcome. During Ablaze\, we invite people to ent
 er into offering a sacrifice of praise through singing\, which leads us in
 to a deeper love for Jesus. Find out more about Ablaze at AblazeWorship.or
 g\nAttend in Person or livestream from the Ablaze website.
DTSTART;TZID=America/Chicago:20211119T183000
DTEND;TZID=America/Chicago:20211119T203000
LOCATION:St Cecelia's Cathedral 701 North 40th Street - Omaha\, NE
SUMMARY:Ablaze Worship Event at St Cecilia's Cathedral
END:VEVENT
END:VCALENDAR
