BEGIN:VCALENDAR
VERSION:2.0
PRODID:-//holycrossomaha.org//NONSGML kigkonsult.se iCalcreator 2.30.10//
CALSCALE:GREGORIAN
METHOD:PUBLISH
UID:92d045f6-4150-43dd-892d-92d5eebd54da
X-WR-CALDESC:He Wept Retreat\nat St. Patrick’s Elkhorn\nNovember 20\, 2021 
   /  9:30 am—8:00 pm\nIf you are a parent who has lost a child\, please jo
 in us at the ‘He Wept’ retreat. All grieving parents whose children of any
  age that have died by any cause\, including miscarriage\, no matter how l
 ong ago\, are encouraged to attend. Meals provided. Free Retreat. Space li
 mited. For more information\, and to register by November 1st\, visit stpa
 tselkhorn.org\n
X-WR-RELCALID:23b070d12873accf34327b7bbf9bfffb
X-WR-TIMEZONE:America/Chicago
BEGIN:VTIMEZONE
TZID:America/Chicago
BEGIN:STANDARD
TZNAME:CST
DTSTART:20211107T020000
TZOFFSETFROM:-0500
TZOFFSETTO:-0600
RDATE:20221106T020000
END:STANDARD
BEGIN:DAYLIGHT
TZNAME:CDT
DTSTART:20210314T020000
TZOFFSETFROM:-0600
TZOFFSETTO:-0500
RDATE:20220313T020000
RDATE:20230312T020000
END:DAYLIGHT
END:VTIMEZONE
BEGIN:VEVENT
UID:fdd65594-2d84-4476-99de-c4a52860ceb9
DTSTAMP:20260422T113737Z
DESCRIPTION:He Wept Retreat\nat St. Patrick’s Elkhorn\nNovember 20\, 2021  
  /  9:30 am—8:00 pm\nIf you are a parent who has lost a child\, please joi
 n us at the ‘He Wept’ retreat. All grieving parents whose children of any 
 age that have died by any cause\, including miscarriage\, no matter how lo
 ng ago\, are encouraged to attend. Meals provided. Free Retreat. Space lim
 ited. For more information\, and to register by November 1st\, visit stpat
 selkhorn.org\n
DTSTART;TZID=America/Chicago:20211120T093000
DTEND;TZID=America/Chicago:20211120T200000
LOCATION:St Pat's Church in Elkhorn\, NE - 20500 West Maple Road
SUMMARY:He Wept Retreat for Grieving Parents
END:VEVENT
END:VCALENDAR
