BEGIN:VCALENDAR
VERSION:2.0
PRODID:-//holycrossomaha.org//NONSGML kigkonsult.se iCalcreator 2.30.10//
CALSCALE:GREGORIAN
METHOD:PUBLISH
UID:46ccacac-b4e7-484e-9dc4-0b7f3ec49daa
X-WR-CALDESC:DUNK A DONUT AND GRAB A DESK!\nAfter all masses on Sunday Nove
 mber 21st.\nGive your grandkids a desk and share stories about the “good o
 le days”\,\nmaybe even explain what an inkwell is!\nGreat Christmas gift! 
  $20each\nTwo desk limit per person please.
X-WR-RELCALID:1fc31f5a73a2a93e49de679e2633f6d0
X-WR-TIMEZONE:America/Chicago
BEGIN:VTIMEZONE
TZID:America/Chicago
BEGIN:STANDARD
TZNAME:CST
DTSTART:20211107T020000
TZOFFSETFROM:-0500
TZOFFSETTO:-0600
RDATE:20221106T020000
END:STANDARD
BEGIN:DAYLIGHT
TZNAME:CDT
DTSTART:20210314T020000
TZOFFSETFROM:-0600
TZOFFSETTO:-0500
RDATE:20220313T020000
RDATE:20230312T020000
END:DAYLIGHT
END:VTIMEZONE
BEGIN:VEVENT
UID:c2c72e1a-1016-4bf6-a79d-d7151e2726a9
DTSTAMP:20260421T094340Z
DESCRIPTION:DUNK A DONUT AND GRAB A DESK!\nAfter all masses on Sunday Novem
 ber 21st.\nGive your grandkids a desk and share stories about the “good ol
 e days”\,\nmaybe even explain what an inkwell is!\nGreat Christmas gift!  
 $20each\nTwo desk limit per person please.
DTSTART;TZID=America/Chicago:20211121T080000
DTEND;TZID=America/Chicago:20211121T130000
LOCATION:Donuts in St Ed's Hall - Desk pick up on William Street in front o
 f the Rectory
SUMMARY:Vintage School Desk Sale and Free Donuts
END:VEVENT
END:VCALENDAR
