BEGIN:VCALENDAR
VERSION:2.0
PRODID:-//holycrossomaha.org//NONSGML kigkonsult.se iCalcreator 2.30.10//
CALSCALE:GREGORIAN
METHOD:PUBLISH
UID:d5a52784-be53-4743-a73e-22c84c8b9b53
X-WR-CALDESC:Rectory off closed for Thanksgiving Holiday.\nWe will reopen o
 n Monday.
X-WR-RELCALID:2423a45daece5b19ed1317530ff1c005
X-WR-TIMEZONE:America/Chicago
BEGIN:VTIMEZONE
TZID:America/Chicago
BEGIN:STANDARD
TZNAME:CST
DTSTART:20211107T020000
TZOFFSETFROM:-0500
TZOFFSETTO:-0600
RDATE:20221106T020000
END:STANDARD
BEGIN:DAYLIGHT
TZNAME:CDT
DTSTART:20210314T020000
TZOFFSETFROM:-0600
TZOFFSETTO:-0500
RDATE:20220313T020000
RDATE:20230312T020000
END:DAYLIGHT
END:VTIMEZONE
BEGIN:VEVENT
UID:648de673-86a0-4d62-8f41-5080b83339e0
DTSTAMP:20260422T114014Z
DESCRIPTION:Rectory off closed for Thanksgiving Holiday.\nWe will reopen on
  Monday.
DTSTART;TZID=America/Chicago:20211125T000000
DTEND;TZID=America/Chicago:20211125T235900
LOCATION:4803 William St
SUMMARY:Rectory Office Closed for Thanksgiving
END:VEVENT
END:VCALENDAR
