BEGIN:VCALENDAR
VERSION:2.0
PRODID:-//holycrossomaha.org//NONSGML kigkonsult.se iCalcreator 2.30.10//
CALSCALE:GREGORIAN
METHOD:PUBLISH
UID:940b04c9-406a-4f5b-bef7-553fc46f1a1f
X-WR-CALDESC:The Holy Cross Choir will be singing Christmas carols at the D
 urham Museum on November 27 at 12 PM.
X-WR-RELCALID:323348a759b7fa1bea8bf3066076222b
X-WR-TIMEZONE:America/Chicago
BEGIN:VTIMEZONE
TZID:America/Chicago
BEGIN:STANDARD
TZNAME:CST
DTSTART:20211107T020000
TZOFFSETFROM:-0500
TZOFFSETTO:-0600
RDATE:20221106T020000
END:STANDARD
BEGIN:DAYLIGHT
TZNAME:CDT
DTSTART:20210314T020000
TZOFFSETFROM:-0600
TZOFFSETTO:-0500
RDATE:20220313T020000
RDATE:20230312T020000
END:DAYLIGHT
END:VTIMEZONE
BEGIN:VEVENT
UID:75f29281-ca06-407b-957d-18e91410de5b
DTSTAMP:20260422T115003Z
DESCRIPTION:The Holy Cross Choir will be singing Christmas carols at the Du
 rham Museum on November 27 at 12 PM.
DTSTART;TZID=America/Chicago:20211127T120000
DTEND;TZID=America/Chicago:20211127T130000
LOCATION:
SUMMARY:Holy Cross Choir Christmas Performance at Durham
END:VEVENT
END:VCALENDAR
