BEGIN:VCALENDAR
VERSION:2.0
PRODID:-//holycrossomaha.org//NONSGML kigkonsult.se iCalcreator 2.30.10//
CALSCALE:GREGORIAN
METHOD:PUBLISH
UID:3656806f-a69c-434a-8f8f-408efffe4592
X-WR-CALDESC:Donations are being accepted November 20 - December 19th!\nDur
 ing this Advent season\, as we anticipate the Good News and great joy of O
 ur Savior's birth\, please express this joy with gifts for His Little Ones
 .  Shower gifts will be donated to one of the Pro-Life Pregnancy Centers. 
  If you would like to participate please contact MaryBeth Burton.\n
X-WR-RELCALID:c9b89430eb60e76c8f46458637dda127
X-WR-TIMEZONE:America/Chicago
BEGIN:VTIMEZONE
TZID:America/Chicago
BEGIN:STANDARD
TZNAME:CST
DTSTART:20211107T020000
TZOFFSETFROM:-0500
TZOFFSETTO:-0600
RDATE:20221106T020000
END:STANDARD
BEGIN:DAYLIGHT
TZNAME:CDT
DTSTART:20210314T020000
TZOFFSETFROM:-0600
TZOFFSETTO:-0500
RDATE:20220313T020000
RDATE:20230312T020000
END:DAYLIGHT
END:VTIMEZONE
BEGIN:VEVENT
UID:8f992e27-fd02-457d-8d5e-8b863b9d3ff1
DTSTAMP:20260422T114338Z
DESCRIPTION:Donations are being accepted November 20 - December 19th!\nDuri
 ng this Advent season\, as we anticipate the Good News and great joy of Ou
 r Savior's birth\, please express this joy with gifts for His Little Ones.
   Shower gifts will be donated to one of the Pro-Life Pregnancy Centers.  
 If you would like to participate please contact MaryBeth Burton.\n
DTSTART;TZID=America/Chicago:20211130T170000
DTEND;TZID=America/Chicago:20211219T123000
LOCATION:Holy Cross Church - 4810 Woolworth Ave
SUMMARY:Pro-Life Advent Baby Shower Donations
END:VEVENT
END:VCALENDAR
