BEGIN:VCALENDAR
VERSION:2.0
PRODID:-//holycrossomaha.org//NONSGML kigkonsult.se iCalcreator 2.30.10//
CALSCALE:GREGORIAN
METHOD:PUBLISH
UID:20862f6f-6f7a-4cf7-a71e-0c99d3e01661
X-WR-CALDESC:Social Hour at 11am\nLuncheon at Noon\nHope gift cards ranging
  from $5-$100 will be available.\nThe Craft Club will be selling handmade 
 items.\nGuests are welcome!\nCost is $10\nReservations need to be made by 
 Friday November 26th to Jan Alexander 402-551-8665 or Barb Black 402-933-0
 778\nBring warm\, wintery wear for the Stephens Center\nReminder: 2021-202
 2 membership dues deadline is January 2022.
X-WR-RELCALID:537bec786afc8e2e1f041cb3c274d4b5
X-WR-TIMEZONE:America/Chicago
BEGIN:VTIMEZONE
TZID:America/Chicago
BEGIN:STANDARD
TZNAME:CST
DTSTART:20211107T020000
TZOFFSETFROM:-0500
TZOFFSETTO:-0600
RDATE:20221106T020000
END:STANDARD
BEGIN:DAYLIGHT
TZNAME:CDT
DTSTART:20210314T020000
TZOFFSETFROM:-0600
TZOFFSETTO:-0500
RDATE:20220313T020000
RDATE:20230312T020000
END:DAYLIGHT
END:VTIMEZONE
BEGIN:VEVENT
UID:59b13d9f-6fed-435e-b01c-55964302c4d7
DTSTAMP:20260424T045802Z
DESCRIPTION:Social Hour at 11am\nLuncheon at Noon\nHope gift cards ranging 
 from $5-$100 will be available.\nThe Craft Club will be selling handmade i
 tems.\nGuests are welcome!\nCost is $10\nReservations need to be made by F
 riday November 26th to Jan Alexander 402-551-8665 or Barb Black 402-933-07
 78\nBring warm\, wintery wear for the Stephens Center\nReminder: 2021-2022
  membership dues deadline is January 2022.
DTSTART;TZID=America/Chicago:20211201T110000
DTEND;TZID=America/Chicago:20211201T140000
LOCATION:
SUMMARY:Altar Society Meeting\, Christmas Shopping and Luncheon
END:VEVENT
END:VCALENDAR
