BEGIN:VCALENDAR
VERSION:2.0
PRODID:-//holycrossomaha.org//NONSGML kigkonsult.se iCalcreator 2.30.10//
CALSCALE:GREGORIAN
METHOD:PUBLISH
UID:2953f6e7-dffc-4bb6-ab7c-e846368d19e1
X-WR-CALDESC:Please contact Catie Johnson to register.\nNo class during Hol
 y Week April 13th\nEnd of year Bingo Event is May 11th
X-WR-RELCALID:ef45f71e95a466e3b6d6ed46c3edeff1
X-WR-TIMEZONE:America/Chicago
BEGIN:VTIMEZONE
TZID:America/Chicago
BEGIN:STANDARD
TZNAME:CST
DTSTART:20211107T020000
TZOFFSETFROM:-0500
TZOFFSETTO:-0600
RDATE:20221106T020000
END:STANDARD
BEGIN:DAYLIGHT
TZNAME:CDT
DTSTART:20220313T020000
TZOFFSETFROM:-0600
TZOFFSETTO:-0500
RDATE:20230312T020000
END:DAYLIGHT
END:VTIMEZONE
BEGIN:VEVENT
UID:aa37cf55-ecb8-4932-aba1-2020aaa50886
DTSTAMP:20260420T143842Z
DESCRIPTION:Please contact Catie Johnson to register.\nNo class during Holy
  Week April 13th\nEnd of year Bingo Event is May 11th
DTSTART;TZID=America/Chicago:20220504T180000
DTEND;TZID=America/Chicago:20220504T193000
LOCATION:Holy Cross School
SUMMARY:Children's Religious Education
END:VEVENT
END:VCALENDAR
