BEGIN:VCALENDAR
VERSION:2.0
PRODID:-//holycrossomaha.org//NONSGML kigkonsult.se iCalcreator 2.30.10//
CALSCALE:GREGORIAN
METHOD:PUBLISH
UID:25bb905c-ed93-4cbd-968a-3e025fcb4395
X-WR-CALDESC:
X-WR-RELCALID:cd329ac26be21ea2b0db671dea8e47e4
X-WR-TIMEZONE:America/Chicago
BEGIN:VTIMEZONE
TZID:America/Chicago
BEGIN:STANDARD
TZNAME:CST
DTSTART:20211107T020000
TZOFFSETFROM:-0500
TZOFFSETTO:-0600
RDATE:20221106T020000
RDATE:20231105T020000
END:STANDARD
BEGIN:DAYLIGHT
TZNAME:CDT
DTSTART:20220313T020000
TZOFFSETFROM:-0600
TZOFFSETTO:-0500
RDATE:20230312T020000
END:DAYLIGHT
END:VTIMEZONE
BEGIN:VEVENT
UID:6311434c-b2ff-4e5d-9680-05227239e1b1
DTSTAMP:20260423T100616Z
DESCRIPTION:
DTSTART;TZID=America/Chicago:20220513T083000
DTEND;TZID=America/Chicago:20220513T093000
LOCATION:
SUMMARY:All School Mass
END:VEVENT
END:VCALENDAR
