BEGIN:VCALENDAR
VERSION:2.0
PRODID:-//holycrossomaha.org//NONSGML kigkonsult.se iCalcreator 2.30.10//
CALSCALE:GREGORIAN
METHOD:PUBLISH
UID:1b919d3f-8075-428c-b409-b2581e1eb6a1
X-WR-CALDESC:Come pray with us Saturday mornings at 9am during the month of
  May!\nToday's prayers will be led by the Altar Society and Legion of Mary
 .
X-WR-RELCALID:2f3ede49842154d5907264b11129a025
X-WR-TIMEZONE:America/Chicago
BEGIN:VTIMEZONE
TZID:America/Chicago
BEGIN:STANDARD
TZNAME:CST
DTSTART:20211107T020000
TZOFFSETFROM:-0500
TZOFFSETTO:-0600
RDATE:20221106T020000
RDATE:20231105T020000
END:STANDARD
BEGIN:DAYLIGHT
TZNAME:CDT
DTSTART:20220313T020000
TZOFFSETFROM:-0600
TZOFFSETTO:-0500
RDATE:20230312T020000
END:DAYLIGHT
END:VTIMEZONE
BEGIN:VEVENT
UID:7df83b75-f407-4edd-b654-2a1c73b63a7f
DTSTAMP:20260421T210449Z
DESCRIPTION:Come pray with us Saturday mornings at 9am during the month of 
 May!\nToday's prayers will be led by the Altar Society and Legion of Mary.
DTSTART;TZID=America/Chicago:20220514T090000
DTEND;TZID=America/Chicago:20220514T100000
LOCATION:Holy Cross Mary Shrine on the East side of the church
SUMMARY:Pray at Our Mary Shrine
END:VEVENT
END:VCALENDAR
