BEGIN:VCALENDAR
VERSION:2.0
PRODID:-//holycrossomaha.org//NONSGML kigkonsult.se iCalcreator 2.30.10//
CALSCALE:GREGORIAN
METHOD:PUBLISH
UID:c5a1ef20-ed47-4ed1-b7a5-edcbd18b3c09
X-WR-CALDESC:Weekly Meeting
X-WR-RELCALID:1198e62cff481bc3608a062d7d8d17e5
X-WR-TIMEZONE:America/Chicago
BEGIN:VTIMEZONE
TZID:America/Chicago
BEGIN:STANDARD
TZNAME:CST
DTSTART:20211107T020000
TZOFFSETFROM:-0500
TZOFFSETTO:-0600
RDATE:20221106T020000
RDATE:20231105T020000
END:STANDARD
BEGIN:DAYLIGHT
TZNAME:CDT
DTSTART:20220313T020000
TZOFFSETFROM:-0600
TZOFFSETTO:-0500
RDATE:20230312T020000
RDATE:20240310T020000
END:DAYLIGHT
END:VTIMEZONE
BEGIN:VEVENT
UID:4b3b05ee-7b64-44e6-aa1a-4f24cb3ac1e0
DTSTAMP:20260422T222652Z
DESCRIPTION:Weekly Meeting
DTSTART;TZID=America/Chicago:20221003T090000
DTEND;TZID=America/Chicago:20221003T100000
LOCATION:St Ed's Hall
SUMMARY:Legion of Mary
END:VEVENT
END:VCALENDAR
