BEGIN:VCALENDAR
VERSION:2.0
PRODID:-//holycrossomaha.org//NONSGML kigkonsult.se iCalcreator 2.30.10//
CALSCALE:GREGORIAN
METHOD:PUBLISH
UID:9576146b-ca1f-4686-9854-9fdb9646a131
X-WR-CALDESC:Group meeting to discuss our transitions and future with our s
 ister parish\, Our Lady of Lourdes.
X-WR-RELCALID:825a515e218bce9c3120f44db11fff04
X-WR-TIMEZONE:America/Chicago
BEGIN:VTIMEZONE
TZID:America/Chicago
BEGIN:STANDARD
TZNAME:CST
DTSTART:20211107T020000
TZOFFSETFROM:-0500
TZOFFSETTO:-0600
RDATE:20221106T020000
RDATE:20231105T020000
END:STANDARD
BEGIN:DAYLIGHT
TZNAME:CDT
DTSTART:20220313T020000
TZOFFSETFROM:-0600
TZOFFSETTO:-0500
RDATE:20230312T020000
RDATE:20240310T020000
END:DAYLIGHT
END:VTIMEZONE
BEGIN:VEVENT
UID:503c7ecb-3ca7-429e-b1ea-d7f3fa76ed14
DTSTAMP:20260421T213240Z
DESCRIPTION:Group meeting to discuss our transitions and future with our si
 ster parish\, Our Lady of Lourdes.
DTSTART;TZID=America/Chicago:20221005T180000
DTEND;TZID=America/Chicago:20221005T210000
LOCATION:St Ed's Hall
SUMMARY:Journey of Faith
END:VEVENT
END:VCALENDAR
