BEGIN:VCALENDAR
VERSION:2.0
PRODID:-//holycrossomaha.org//NONSGML kigkonsult.se iCalcreator 2.30.10//
CALSCALE:GREGORIAN
METHOD:PUBLISH
UID:cee69d8a-9980-4b38-b513-232403c81b86
X-WR-CALDESC:Group meeting to discuss our transitions and future with our s
 ister parish\, Our Lady of Lourdes.
X-WR-RELCALID:60efc917476bbb6baaf630919f174a62
X-WR-TIMEZONE:America/Chicago
BEGIN:VTIMEZONE
TZID:America/Chicago
BEGIN:STANDARD
TZNAME:CST
DTSTART:20211107T020000
TZOFFSETFROM:-0500
TZOFFSETTO:-0600
RDATE:20221106T020000
RDATE:20231105T020000
END:STANDARD
BEGIN:DAYLIGHT
TZNAME:CDT
DTSTART:20220313T020000
TZOFFSETFROM:-0600
TZOFFSETTO:-0500
RDATE:20230312T020000
RDATE:20240310T020000
END:DAYLIGHT
END:VTIMEZONE
BEGIN:VEVENT
UID:a5641939-65d9-4102-83f5-a92f2372c654
DTSTAMP:20260420T210233Z
DESCRIPTION:Group meeting to discuss our transitions and future with our si
 ster parish\, Our Lady of Lourdes.
DTSTART;TZID=America/Chicago:20221026T180000
DTEND;TZID=America/Chicago:20221026T210000
LOCATION:St Ed's Hall
SUMMARY:Journey of Faith
END:VEVENT
END:VCALENDAR
