BEGIN:VCALENDAR
VERSION:2.0
PRODID:-//holycrossomaha.org//NONSGML kigkonsult.se iCalcreator 2.30.10//
CALSCALE:GREGORIAN
METHOD:PUBLISH
UID:967d3b63-2c48-46b1-a21d-f9eec6faca6d
X-WR-CALDESC:Weekly Meeting
X-WR-RELCALID:a9fa6f3d2c28de5ba8eca61a3bb4c3f6
X-WR-TIMEZONE:America/Chicago
BEGIN:VTIMEZONE
TZID:America/Chicago
BEGIN:STANDARD
TZNAME:CST
DTSTART:20211107T020000
TZOFFSETFROM:-0500
TZOFFSETTO:-0600
RDATE:20221106T020000
RDATE:20231105T020000
END:STANDARD
BEGIN:DAYLIGHT
TZNAME:CDT
DTSTART:20220313T020000
TZOFFSETFROM:-0600
TZOFFSETTO:-0500
RDATE:20230312T020000
RDATE:20240310T020000
END:DAYLIGHT
END:VTIMEZONE
BEGIN:VEVENT
UID:0cf55563-3776-4239-aac6-9454453ffd94
DTSTAMP:20260420T184141Z
DESCRIPTION:Weekly Meeting
DTSTART;TZID=America/Chicago:20221107T090000
DTEND;TZID=America/Chicago:20221107T100000
LOCATION:St Ed's Hall
SUMMARY:Legion of Mary
END:VEVENT
END:VCALENDAR
