BEGIN:VCALENDAR
VERSION:2.0
PRODID:-//holycrossomaha.org//NONSGML kigkonsult.se iCalcreator 2.30.10//
CALSCALE:GREGORIAN
METHOD:PUBLISH
UID:f075494c-63e8-4fa4-a0a7-94322ff7acee
X-WR-CALDESC:Group meeting to discuss our transitions and future with our s
 ister parish\, Our Lady of Lourdes.
X-WR-RELCALID:788668cb14ef6b2ed13b44aed8fb33a3
X-WR-TIMEZONE:America/Chicago
BEGIN:VTIMEZONE
TZID:America/Chicago
BEGIN:STANDARD
TZNAME:CST
DTSTART:20221106T020000
TZOFFSETFROM:-0500
TZOFFSETTO:-0600
RDATE:20231105T020000
END:STANDARD
BEGIN:DAYLIGHT
TZNAME:CDT
DTSTART:20220313T020000
TZOFFSETFROM:-0600
TZOFFSETTO:-0500
RDATE:20230312T020000
RDATE:20240310T020000
END:DAYLIGHT
END:VTIMEZONE
BEGIN:VEVENT
UID:60754e27-203f-4578-b573-0d511fdff42c
DTSTAMP:20260425T131050Z
DESCRIPTION:Group meeting to discuss our transitions and future with our si
 ster parish\, Our Lady of Lourdes.
DTSTART;TZID=America/Chicago:20221116T180000
DTEND;TZID=America/Chicago:20221116T210000
LOCATION:St Ed's Hall
SUMMARY:Journey of Faith
END:VEVENT
END:VCALENDAR
