BEGIN:VCALENDAR
VERSION:2.0
PRODID:-//holycrossomaha.org//NONSGML kigkonsult.se iCalcreator 2.30.10//
CALSCALE:GREGORIAN
METHOD:PUBLISH
UID:53fafd67-d822-4eeb-85db-721f801de789
X-WR-CALDESC:Once again\, Holy Cross will be participating in our Advent An
 gel Christmas Gift program in cooperation with Catholic Charities. Name ta
 gs will be available in the church vestibule at all masses the weekends of
  November 20th and 27th.\n\nYou can make Christmas a little brighter for n
 eedy families by picking out a name tag and buying a gift/gift card for th
 at family member.  Please wrap your gift and return it to the church by De
 c. 11th.\nIf you have questions or would like to help\, please contact  Ka
 ri or Mike Pierson.\n
X-WR-RELCALID:6ff052b49ff289e18192b9e1ef3125a2
X-WR-TIMEZONE:America/Chicago
BEGIN:VTIMEZONE
TZID:America/Chicago
BEGIN:STANDARD
TZNAME:CST
DTSTART:20221106T020000
TZOFFSETFROM:-0500
TZOFFSETTO:-0600
RDATE:20231105T020000
END:STANDARD
BEGIN:DAYLIGHT
TZNAME:CDT
DTSTART:20220313T020000
TZOFFSETFROM:-0600
TZOFFSETTO:-0500
RDATE:20230312T020000
RDATE:20240310T020000
END:DAYLIGHT
END:VTIMEZONE
BEGIN:VEVENT
UID:b28f52e4-557d-4379-a81f-ad743b9bc4dd
DTSTAMP:20260422T082558Z
DESCRIPTION:Once again\, Holy Cross will be participating in our Advent Ang
 el Christmas Gift program in cooperation with Catholic Charities. Name tag
 s will be available in the church vestibule at all masses the weekends of 
 November 20th and 27th.\n\nYou can make Christmas a little brighter for ne
 edy families by picking out a name tag and buying a gift/gift card for tha
 t family member.  Please wrap your gift and return it to the church by Dec
 . 11th.\nIf you have questions or would like to help\, please contact  Kar
 i or Mike Pierson.\n
DTSTART;TZID=America/Chicago:20221120T080000
DTEND;TZID=America/Chicago:20221211T123000
LOCATION:
SUMMARY:Advent Angel Christmas Gift Program
END:VEVENT
END:VCALENDAR
