BEGIN:VCALENDAR
VERSION:2.0
PRODID:-//holycrossomaha.org//NONSGML kigkonsult.se iCalcreator 2.30.10//
CALSCALE:GREGORIAN
METHOD:PUBLISH
UID:fb404311-cc6f-4491-8bb6-0642f37cc98e
X-WR-CALDESC:
X-WR-RELCALID:2ddaa941b88865cae5f139de931260f0
X-WR-TIMEZONE:America/Chicago
BEGIN:VTIMEZONE
TZID:America/Chicago
BEGIN:STANDARD
TZNAME:CST
DTSTART:20221106T020000
TZOFFSETFROM:-0500
TZOFFSETTO:-0600
RDATE:20231105T020000
END:STANDARD
BEGIN:DAYLIGHT
TZNAME:CDT
DTSTART:20220313T020000
TZOFFSETFROM:-0600
TZOFFSETTO:-0500
RDATE:20230312T020000
RDATE:20240310T020000
END:DAYLIGHT
END:VTIMEZONE
BEGIN:VEVENT
UID:bfb6f0b3-408f-4ffd-b8bf-dbdd05fa3a05
DTSTAMP:20260420T144008Z
DESCRIPTION:
DTSTART;TZID=America/Chicago:20221126T120000
DTEND;TZID=America/Chicago:20221126T123000
LOCATION:The Durham Museum
SUMMARY:Holy Cross Choir at Durham
END:VEVENT
END:VCALENDAR
