BEGIN:VCALENDAR
VERSION:2.0
PRODID:-//holycrossomaha.org//NONSGML kigkonsult.se iCalcreator 2.30.10//
CALSCALE:GREGORIAN
METHOD:PUBLISH
UID:106b0b6b-0c89-48f2-86f7-a6b54133e538
X-WR-CALDESC:Proceeds from the breakfast will go to support the Bethlehem H
 ouse of Omaha.\nCome hungry and help a good cause!\n
X-WR-RELCALID:9b1b89f2cc089b0b91a0f388451f2c58
X-WR-TIMEZONE:America/Chicago
BEGIN:VTIMEZONE
TZID:America/Chicago
BEGIN:STANDARD
TZNAME:CST
DTSTART:20221106T020000
TZOFFSETFROM:-0500
TZOFFSETTO:-0600
RDATE:20231105T020000
END:STANDARD
BEGIN:DAYLIGHT
TZNAME:CDT
DTSTART:20220313T020000
TZOFFSETFROM:-0600
TZOFFSETTO:-0500
RDATE:20230312T020000
RDATE:20240310T020000
END:DAYLIGHT
END:VTIMEZONE
BEGIN:VEVENT
UID:ac7e66ab-6f7e-49d5-ae75-746becbea2f6
DTSTAMP:20260424T090746Z
DESCRIPTION:Proceeds from the breakfast will go to support the Bethlehem Ho
 use of Omaha.\nCome hungry and help a good cause!\n
DTSTART;TZID=America/Chicago:20230129T080000
DTEND;TZID=America/Chicago:20230129T123000
LOCATION:Holy Cross School Cafeteria
SUMMARY:KofC Pancake Benefit
END:VEVENT
END:VCALENDAR
