BEGIN:VCALENDAR
VERSION:2.0
PRODID:-//holycrossomaha.org//NONSGML kigkonsult.se iCalcreator 2.30.10//
CALSCALE:GREGORIAN
METHOD:PUBLISH
UID:5f7b6361-9a76-4a9d-a74e-46e54a05f171
X-WR-CALDESC:Holy Cross Knights of Columbus Council 11364 was formed in 199
 5 with about 35 members. Present membership is 125. The Council meets on t
 he second Monday of each month in St. Ed’s Hall\, usually around 6pm. Plea
 se call in advance to verify the time if you plan to attend.\n\nThe Holy C
 ross Knights of Columbus Council is very active in our parish. Most recent
 ly the Council purchased and installed the Ten Commandments monument in fr
 ont of the school. The Council also provides an annual free dinner for all
  members of the parish\, along with quarter pancake breakfasts. For the yo
 uth\, the Council hosts an annual Altar Servers appreciation event and spo
 nsors a basketball free throw contest. The Council also assists in buildin
 g a Habitat for Humanity Home each year and provides financial support for
  seminarians and candidates to the religious life.\n
X-WR-RELCALID:6632865983766aae2f374686c4eb2e21
X-WR-TIMEZONE:America/Chicago
BEGIN:VTIMEZONE
TZID:America/Chicago
BEGIN:STANDARD
TZNAME:CST
DTSTART:20231105T020000
TZOFFSETFROM:-0500
TZOFFSETTO:-0600
RDATE:20241103T020000
END:STANDARD
BEGIN:DAYLIGHT
TZNAME:CDT
DTSTART:20240310T020000
TZOFFSETFROM:-0600
TZOFFSETTO:-0500
RDATE:20250309T020000
END:DAYLIGHT
END:VTIMEZONE
BEGIN:VEVENT
UID:2f4c6ffe-3b11-403c-8af0-2d383ca9550f
DTSTAMP:20260423T155452Z
DESCRIPTION:Holy Cross Knights of Columbus Council 11364 was formed in 1995
  with about 35 members. Present membership is 125. The Council meets on th
 e second Monday of each month in St. Ed’s Hall\, usually around 6pm. Pleas
 e call in advance to verify the time if you plan to attend.\n\nThe Holy Cr
 oss Knights of Columbus Council is very active in our parish. Most recentl
 y the Council purchased and installed the Ten Commandments monument in fro
 nt of the school. The Council also provides an annual free dinner for all 
 members of the parish\, along with quarter pancake breakfasts. For the you
 th\, the Council hosts an annual Altar Servers appreciation event and spon
 sors a basketball free throw contest. The Council also assists in building
  a Habitat for Humanity Home each year and provides financial support for 
 seminarians and candidates to the religious life.\n
DTSTART;TZID=America/Chicago:20240408T180000
DTEND;TZID=America/Chicago:20240408T190000
LOCATION:
SUMMARY:KofC Holy Cross Chapter Meeting
END:VEVENT
END:VCALENDAR
