BEGIN:VCALENDAR
VERSION:2.0
PRODID:-//holycrossomaha.org//NONSGML kigkonsult.se iCalcreator 2.30.10//
CALSCALE:GREGORIAN
METHOD:PUBLISH
UID:3d9dfa6f-5210-4ec7-9541-9bb5e9a3b502
X-WR-CALDESC:St. Vincent de Paul Society - Holy Cross Church St. Vincent de
  Paul Conference meets the second Tuesday of every month at 7pm in\nSt. Ed
 ’s Hall. The Conference assists parishioners and those in need living with
 in the boundaries of Holy Cross Church. It provides funds for utilities\, 
 rent and in some cases\, food and clothing to those in need. In addition\,
  the Conference holds food drives and clothing drives each year to assist 
 the needy. The Conference welcomes anyone who is interested in joining us 
 in the Conference’s calling to help those in need. If interested\, or to c
 onfirm a meeting\, please call the Rectory.\n\n
X-WR-RELCALID:630bf1d0bd18e1604f60b5d420457e70
X-WR-TIMEZONE:America/Chicago
BEGIN:VTIMEZONE
TZID:America/Chicago
BEGIN:STANDARD
TZNAME:CST
DTSTART:20231105T020000
TZOFFSETFROM:-0500
TZOFFSETTO:-0600
RDATE:20241103T020000
END:STANDARD
BEGIN:DAYLIGHT
TZNAME:CDT
DTSTART:20240310T020000
TZOFFSETFROM:-0600
TZOFFSETTO:-0500
RDATE:20250309T020000
END:DAYLIGHT
END:VTIMEZONE
BEGIN:VEVENT
UID:ac4481db-b927-4b53-9541-879e4ce146e2
DTSTAMP:20260423T082459Z
DESCRIPTION:St. Vincent de Paul Society - Holy Cross Church St. Vincent de 
 Paul Conference meets the second Tuesday of every month at 7pm in\nSt. Ed’
 s Hall. The Conference assists parishioners and those in need living withi
 n the boundaries of Holy Cross Church. It provides funds for utilities\, r
 ent and in some cases\, food and clothing to those in need. In addition\, 
 the Conference holds food drives and clothing drives each year to assist t
 he needy. The Conference welcomes anyone who is interested in joining us i
 n the Conference’s calling to help those in need. If interested\, or to co
 nfirm a meeting\, please call the Rectory.\n\n
DTSTART;TZID=America/Chicago:20240409T190000
DTEND;TZID=America/Chicago:20240409T200000
LOCATION:St Ed's Hall at Holy Cross Church
SUMMARY:St Vincent dePaul Conference of Holy Cross
END:VEVENT
END:VCALENDAR
