BEGIN:VCALENDAR
VERSION:2.0
PRODID:-//holycrossomaha.org//NONSGML kigkonsult.se iCalcreator 2.30.10//
CALSCALE:GREGORIAN
METHOD:PUBLISH
UID:4686e46d-38a8-4cd7-8686-8b03eeb72b01
X-WR-CALDESC:Lights\, Camera\, Auction! Get ready for Holy Cross Gala 2024!
 \nJoin us at the Scott Conference Center for another evening of great fun 
 while we celebrate Holy Cross and raise money for our future! UPDATE: Dinn
 er registration is now closed but you can still participate! Click link pr
 ovided to create a free account at OneCause!  Bid and Donate to support th
 e future of Holy Cross!
X-WR-RELCALID:5ade46523bcff3202b00205ad35be08f
X-WR-TIMEZONE:America/Chicago
BEGIN:VTIMEZONE
TZID:America/Chicago
BEGIN:STANDARD
TZNAME:CST
DTSTART:20231105T020000
TZOFFSETFROM:-0500
TZOFFSETTO:-0600
RDATE:20241103T020000
END:STANDARD
BEGIN:DAYLIGHT
TZNAME:CDT
DTSTART:20240310T020000
TZOFFSETFROM:-0600
TZOFFSETTO:-0500
RDATE:20250309T020000
END:DAYLIGHT
END:VTIMEZONE
BEGIN:VEVENT
UID:1d620bb6-d5fc-4606-b88a-7747a853a8b3
DTSTAMP:20260424T095144Z
DESCRIPTION:Lights\, Camera\, Auction! Get ready for Holy Cross Gala 2024!
 \nJoin us at the Scott Conference Center for another evening of great fun 
 while we celebrate Holy Cross and raise money for our future! UPDATE: Dinn
 er registration is now closed but you can still participate! Click link pr
 ovided to create a free account at OneCause!  Bid and Donate to support th
 e future of Holy Cross!
DTSTART;TZID=America/Chicago:20240420T170000
DTEND;TZID=America/Chicago:20240420T233000
LOCATION:https://onecau.se/holycrossgala2024
SUMMARY:Holy Cross Gala 2024
END:VEVENT
END:VCALENDAR
