BEGIN:VCALENDAR
VERSION:2.0
PRODID:-//holycrossomaha.org//NONSGML kigkonsult.se iCalcreator 2.30.10//
CALSCALE:GREGORIAN
METHOD:PUBLISH
UID:3e5587a5-e234-4757-819a-f2abbaa255fb
X-WR-CALDESC:
X-WR-RELCALID:a47a68320a9b2c0b0367ef0ddc3550fe
X-WR-TIMEZONE:America/Chicago
BEGIN:VTIMEZONE
TZID:America/Chicago
BEGIN:STANDARD
TZNAME:CST
DTSTART:20231105T020000
TZOFFSETFROM:-0500
TZOFFSETTO:-0600
RDATE:20241103T020000
RDATE:20251102T020000
END:STANDARD
BEGIN:DAYLIGHT
TZNAME:CDT
DTSTART:20240310T020000
TZOFFSETFROM:-0600
TZOFFSETTO:-0500
RDATE:20250309T020000
END:DAYLIGHT
END:VTIMEZONE
BEGIN:VEVENT
UID:1af6e634-b893-4a1e-aa90-eb7945a448de
DTSTAMP:20260423T063853Z
DESCRIPTION:
DTSTART;TZID=America/Chicago:20240518T090000
DTEND;TZID=America/Chicago:20240518T100000
LOCATION:The Mary Shrine is on the East side of the Church
SUMMARY:Pray at The Mary Shrine!
END:VEVENT
END:VCALENDAR
