BEGIN:VCALENDAR
VERSION:2.0
PRODID:-//holycrossomaha.org//NONSGML kigkonsult.se iCalcreator 2.30.10//
CALSCALE:GREGORIAN
METHOD:PUBLISH
UID:2c487133-759e-4dcc-a6e2-f0ec470ac72d
X-WR-CALDESC:If you have been a registered Holy Cross parishioner for at le
 ast one year with a giving history\, you are able to apply for Holy Cross 
 School tuition              assistance. The applications and requirement d
 etails are available in the rectory or school offices. Applications must b
 e turned in by May 31st\, 2024.\n
X-WR-RELCALID:1dea86e6103888d40e57d64ab50c69b6
X-WR-TIMEZONE:America/Chicago
BEGIN:VTIMEZONE
TZID:America/Chicago
BEGIN:STANDARD
TZNAME:CST
DTSTART:20231105T020000
TZOFFSETFROM:-0500
TZOFFSETTO:-0600
RDATE:20241103T020000
RDATE:20251102T020000
END:STANDARD
BEGIN:DAYLIGHT
TZNAME:CDT
DTSTART:20240310T020000
TZOFFSETFROM:-0600
TZOFFSETTO:-0500
RDATE:20250309T020000
END:DAYLIGHT
END:VTIMEZONE
BEGIN:VEVENT
UID:8c80b892-ea7c-418e-98ea-e035bf26cbbf
DTSTAMP:20260423T142144Z
DESCRIPTION:If you have been a registered Holy Cross parishioner for at lea
 st one year with a giving history\, you are able to apply for Holy Cross S
 chool tuition              assistance. The applications and requirement de
 tails are available in the rectory or school offices. Applications must be
  turned in by May 31st\, 2024.\n
DTSTART;TZID=America/Chicago:20240531T050000
DTEND;TZID=America/Chicago:20240531T050001
LOCATION:Rectory Office 4803 William Street
SUMMARY:Tuition Assistance for 2024-25 Applications Due
END:VEVENT
END:VCALENDAR
