BEGIN:VCALENDAR
VERSION:2.0
PRODID:-//holycrossomaha.org//NONSGML kigkonsult.se iCalcreator 2.30.10//
CALSCALE:GREGORIAN
METHOD:PUBLISH
UID:c5955628-e050-4460-b28e-b7d96853549f
X-WR-CALDESC:Generational Healing Mass\nOctober 11th at 6pm\n6:15pm Rosary
 \n7pm Mass
X-WR-RELCALID:aa6de3cea0b0b63568f097a34c848eca
X-WR-TIMEZONE:America/Chicago
BEGIN:VTIMEZONE
TZID:America/Chicago
BEGIN:STANDARD
TZNAME:CST
DTSTART:20231105T020000
TZOFFSETFROM:-0500
TZOFFSETTO:-0600
RDATE:20241103T020000
RDATE:20251102T020000
END:STANDARD
BEGIN:DAYLIGHT
TZNAME:CDT
DTSTART:20240310T020000
TZOFFSETFROM:-0600
TZOFFSETTO:-0500
RDATE:20250309T020000
RDATE:20260308T020000
END:DAYLIGHT
END:VTIMEZONE
BEGIN:VEVENT
UID:4ae0eff8-1c6c-4050-9259-a8075551ea8d
DTSTAMP:20260425T212521Z
DESCRIPTION:Generational Healing Mass\nOctober 11th at 6pm\n6:15pm Rosary\n
 7pm Mass
DTSTART;TZID=America/Chicago:20241011T180000
DTEND;TZID=America/Chicago:20241011T200000
LOCATION:Mary Our Queen Church
SUMMARY:Generational Healing Mass at MOQ
END:VEVENT
END:VCALENDAR
