BEGIN:VCALENDAR
VERSION:2.0
PRODID:-//holycrossomaha.org//NONSGML kigkonsult.se iCalcreator 2.30.10//
CALSCALE:GREGORIAN
METHOD:PUBLISH
UID:4241988c-bda7-4c2a-abe4-b365e83da977
X-WR-CALDESC:Cost is $20
X-WR-RELCALID:9938d551744b707cd576a4b28947d0cf
X-WR-TIMEZONE:America/Chicago
BEGIN:VTIMEZONE
TZID:America/Chicago
BEGIN:STANDARD
TZNAME:CST
DTSTART:20241103T020000
TZOFFSETFROM:-0500
TZOFFSETTO:-0600
RDATE:20251102T020000
RDATE:20261101T020000
END:STANDARD
BEGIN:DAYLIGHT
TZNAME:CDT
DTSTART:20250309T020000
TZOFFSETFROM:-0600
TZOFFSETTO:-0500
RDATE:20260308T020000
END:DAYLIGHT
END:VTIMEZONE
BEGIN:VEVENT
UID:a7d5051d-4b51-4e4e-9faf-c7b0eddd9c6e
DTSTAMP:20260425T132819Z
DESCRIPTION:Cost is $20
DTSTART;TZID=America/Chicago:20250621T093000
DTEND;TZID=America/Chicago:20250621T123000
LOCATION:St Robert Church - 11802 Pacific St
SUMMARY:Magnificat Women's Brunch
END:VEVENT
END:VCALENDAR
