BEGIN:VCALENDAR
VERSION:2.0
PRODID:-//holycrossomaha.org//NONSGML kigkonsult.se iCalcreator 2.30.10//
CALSCALE:GREGORIAN
METHOD:PUBLISH
UID:dd559964-8063-41d7-bfdd-4a749ac6cc38
X-WR-CALDESC:NOTE TO SELF: On Tuesday\, September 2nd\, 2025\, we will begi
 n our 16th year of aerobics at Holy Cross Church. We meet every Tuesday fr
 om 9:15 until 10:30am in the Holy Cross Cafeteria. There is no charge for 
 this class. We continue throughout the school year and end the week school
  closes for summer vacation.  \n\nBoth men and women of all ages are welco
 me and encouraged to attend. We have participants from Holy Cross\, Our La
 dy of Lourdes\, St. Thomas More\, St. Joan of Arc and throughout the city.
  All you will need to begin with is comfortable clothing (something you ca
 n move in\,) tennis shoes with good tread and a water bottle. Additional i
 tems will be added later.\n\nGod gives us the gift of 'Good Health.' What 
 we do with that gift is up to us. In this program we do some aerobic activ
 ity\, light weights\, balance work\, leg strengthening and stretching. Thi
 s varies from week to week.\n \nGive us a try. All you have to lose is wei
 ght\, stress\, sluggishness\; AND what you can hope to gain is strength\, 
 better balance\, flexibility\, a better image of yourself\, camaraderie\, 
 and a good time with great people. Hope to see you on Tuesday\, September 
 2nd!\n\nConnie Gewinner and Kristi Cornelius lead the class.
X-WR-RELCALID:dca1c06ec4b9e5f05af9d76074e6e8b1
X-WR-TIMEZONE:America/Chicago
BEGIN:VTIMEZONE
TZID:America/Chicago
BEGIN:STANDARD
TZNAME:CST
DTSTART:20251102T020000
TZOFFSETFROM:-0500
TZOFFSETTO:-0600
RDATE:20261101T020000
END:STANDARD
BEGIN:DAYLIGHT
TZNAME:CDT
DTSTART:20260308T020000
TZOFFSETFROM:-0600
TZOFFSETTO:-0500
RDATE:20270314T020000
END:DAYLIGHT
END:VTIMEZONE
BEGIN:VEVENT
UID:3d908853-fd0d-4f45-ac94-5c9e91af8fa7
DTSTAMP:20260422T130803Z
DESCRIPTION:NOTE TO SELF: On Tuesday\, September 2nd\, 2025\, we will begin
  our 16th year of aerobics at Holy Cross Church. We meet every Tuesday fro
 m 9:15 until 10:30am in the Holy Cross Cafeteria. There is no charge for t
 his class. We continue throughout the school year and end the week school 
 closes for summer vacation.  \n\nBoth men and women of all ages are welcom
 e and encouraged to attend. We have participants from Holy Cross\, Our Lad
 y of Lourdes\, St. Thomas More\, St. Joan of Arc and throughout the city. 
 All you will need to begin with is comfortable clothing (something you can
  move in\,) tennis shoes with good tread and a water bottle. Additional it
 ems will be added later.\n\nGod gives us the gift of 'Good Health.' What w
 e do with that gift is up to us. In this program we do some aerobic activi
 ty\, light weights\, balance work\, leg strengthening and stretching. This
  varies from week to week.\n \nGive us a try. All you have to lose is weig
 ht\, stress\, sluggishness\; AND what you can hope to gain is strength\, b
 etter balance\, flexibility\, a better image of yourself\, camaraderie\, a
 nd a good time with great people. Hope to see you on Tuesday\, September 2
 nd!\n\nConnie Gewinner and Kristi Cornelius lead the class.
DTSTART;TZID=America/Chicago:20260428T090000
DTEND;TZID=America/Chicago:20260428T103000
LOCATION:Holy Cross School Cafeteria
SUMMARY:Aerobics in Cafeteria 9:15am (Copy)
END:VEVENT
END:VCALENDAR
