BEGIN:VCALENDAR
VERSION:2.0
PRODID:-//holycrossomaha.org//NONSGML kigkonsult.se iCalcreator 2.30.10//
CALSCALE:GREGORIAN
METHOD:PUBLISH
UID:32b74407-cf44-4cd8-9b3e-cbefc846a66b
X-WR-CALDESC:Join other like-minded ladies creating amazing things! Men are
  welcome!
X-WR-RELCALID:d42c85b34e2528cb887d7ee85b0dc3ac
X-WR-TIMEZONE:America/Chicago
BEGIN:VTIMEZONE
TZID:America/Chicago
BEGIN:STANDARD
TZNAME:CST
DTSTART:20251102T020000
TZOFFSETFROM:-0500
TZOFFSETTO:-0600
RDATE:20261101T020000
RDATE:20271107T020000
END:STANDARD
BEGIN:DAYLIGHT
TZNAME:CDT
DTSTART:20260308T020000
TZOFFSETFROM:-0600
TZOFFSETTO:-0500
RDATE:20270314T020000
END:DAYLIGHT
END:VTIMEZONE
BEGIN:VEVENT
UID:2c32b6d3-eb4a-4c67-94d3-c413c0d4fbc4
DTSTAMP:20260425T170851Z
DESCRIPTION:Join other like-minded ladies creating amazing things! Men are 
 welcome!
DTSTART;TZID=America/Chicago:20260522T090000
DTEND;TZID=America/Chicago:20260522T120000
LOCATION:Holy Cross St Ed's Hall
SUMMARY:Craft Club
END:VEVENT
END:VCALENDAR
